BEGIN:VCALENDAR
VERSION:2.0
PRODID:-//Great Lakes Christian College - ECPv6.15.17.1//NONSGML v1.0//EN
CALSCALE:GREGORIAN
METHOD:PUBLISH
X-WR-CALNAME:Great Lakes Christian College
X-ORIGINAL-URL:https://glcc.edu
X-WR-CALDESC:Events for Great Lakes Christian College
REFRESH-INTERVAL;VALUE=DURATION:PT1H
X-Robots-Tag:noindex
X-PUBLISHED-TTL:PT1H
BEGIN:VTIMEZONE
TZID:America/Detroit
BEGIN:DAYLIGHT
TZOFFSETFROM:-0500
TZOFFSETTO:-0400
TZNAME:EDT
DTSTART:20250309T070000
END:DAYLIGHT
BEGIN:STANDARD
TZOFFSETFROM:-0400
TZOFFSETTO:-0500
TZNAME:EST
DTSTART:20251102T060000
END:STANDARD
BEGIN:DAYLIGHT
TZOFFSETFROM:-0500
TZOFFSETTO:-0400
TZNAME:EDT
DTSTART:20260308T070000
END:DAYLIGHT
BEGIN:STANDARD
TZOFFSETFROM:-0400
TZOFFSETTO:-0500
TZNAME:EST
DTSTART:20261101T060000
END:STANDARD
BEGIN:DAYLIGHT
TZOFFSETFROM:-0500
TZOFFSETTO:-0400
TZNAME:EDT
DTSTART:20270314T070000
END:DAYLIGHT
BEGIN:STANDARD
TZOFFSETFROM:-0400
TZOFFSETTO:-0500
TZNAME:EST
DTSTART:20271107T060000
END:STANDARD
END:VTIMEZONE
BEGIN:VEVENT
DTSTART;TZID=America/Detroit:20260328T090000
DTEND;TZID=America/Detroit:20260328T210000
DTSTAMP:20260423T141657
CREATED:20260219T161202Z
LAST-MODIFIED:20260219T161202Z
UID:40473-1774688400-1774731600@glcc.edu
SUMMARY:Pickleball Fundraiser
DESCRIPTION:Serving Beyond the Court is a pickleball fundraiser tournament hosted at Great Lakes Christian College\, bringing together competition\, community\, and service. Proceeds from this event directly support GLCC students participating in a mission trip to the Dominican Republic\, May 19–26\, in partnership with GO Ministries\, where they will serve local communities and live out their faith beyond the court. Players of all skill levels are invited to compete\, connect\, and support a meaningful cause. \nFORMAT\n• Divisions require a minimum of 5 teams and will be capped at a maximum of 12 teams\n• Round-robin play with a minimum of four guaranteed matches\n• Single-elimination bracket play will occur when a division has 6 or more teams\n• Top teams advance to bracket play to determine champions\n• Matches played to 15 points\, win by 2\n• If divisions expand\, matches may be 11 points\, win by 2\n• If divisions do not fill\, teams will be moved to the closest competitive division \n*Different divisions will have different start times. More details to come! \nCOST & PLAYER PERKS\n• $50 per team\n• Player Pack included \nREGISTRATION DETAILS\n• Registration is now open!\n• Registration closes: March 26 \n IMPORTANT NOTES\n• DUPR ratings will not be reported \nEQUIPMENT & FACILITY\n• Official tournament ball: LT Pro 48 Pickleball – Neon Yellow\n• Hosted in a spacious 3-court facility with bleacher seating and a lounge area with concessions \nRegister Today!\nWould you like to donate to our trip? Donate online by going here: Dominican Republic Mission Trip \nThanks for your support!
URL:https://glcc.edu/event/pickleball-fundraiser/
LOCATION:The Doty Center\, 6211 W. Willow Hwy\, Lansing\, MI\, 48917\, United States
END:VEVENT
END:VCALENDAR