BEGIN:VCALENDAR
VERSION:2.0
PRODID:-//Great Lakes Christian College - ECPv6.15.17.1//NONSGML v1.0//EN
CALSCALE:GREGORIAN
METHOD:PUBLISH
X-ORIGINAL-URL:https://glcc.edu
X-WR-CALDESC:Events for Great Lakes Christian College
REFRESH-INTERVAL;VALUE=DURATION:PT1H
X-Robots-Tag:noindex
X-PUBLISHED-TTL:PT1H
BEGIN:VTIMEZONE
TZID:America/Detroit
BEGIN:DAYLIGHT
TZOFFSETFROM:-0500
TZOFFSETTO:-0400
TZNAME:EDT
DTSTART:20250309T070000
END:DAYLIGHT
BEGIN:STANDARD
TZOFFSETFROM:-0400
TZOFFSETTO:-0500
TZNAME:EST
DTSTART:20251102T060000
END:STANDARD
BEGIN:DAYLIGHT
TZOFFSETFROM:-0500
TZOFFSETTO:-0400
TZNAME:EDT
DTSTART:20260308T070000
END:DAYLIGHT
BEGIN:STANDARD
TZOFFSETFROM:-0400
TZOFFSETTO:-0500
TZNAME:EST
DTSTART:20261101T060000
END:STANDARD
BEGIN:DAYLIGHT
TZOFFSETFROM:-0500
TZOFFSETTO:-0400
TZNAME:EDT
DTSTART:20270314T070000
END:DAYLIGHT
BEGIN:STANDARD
TZOFFSETFROM:-0400
TZOFFSETTO:-0500
TZNAME:EST
DTSTART:20271107T060000
END:STANDARD
END:VTIMEZONE
BEGIN:VEVENT
DTSTART;TZID=America/Detroit:20260424T183000
DTEND;TZID=America/Detroit:20260424T203000
DTSTAMP:20260423T125235
CREATED:20260220T141955Z
LAST-MODIFIED:20260220T142054Z
UID:40480-1777055400-1777062600@glcc.edu
SUMMARY:2026 Women's Spring Celebration
DESCRIPTION:We are looking forward to a wonderful buffet meal and a great program and fellowship. Plan to bring a group of friends to fill a table! \nA special offering will be received this year to complete our outdoor cafeteria dining area with new seating\, fencing\, sails for shades\, landscaping\, and access from the cafeteria.  This will benefit the students and their experience at GLCC. Our goal is $12\,000! \nRegister you or your group! Give online for the special offering!
URL:https://glcc.edu/event/2026-womens-spring-celebration/
LOCATION:The Doty Center\, 6211 W. Willow Hwy\, Lansing\, MI\, 48917\, United States
END:VEVENT
END:VCALENDAR