BEGIN:VCALENDAR
VERSION:2.0
PRODID:-//Great Lakes Christian College - ECPv6.15.17.1//NONSGML v1.0//EN
CALSCALE:GREGORIAN
METHOD:PUBLISH
X-WR-CALNAME:Great Lakes Christian College
X-ORIGINAL-URL:https://glcc.edu
X-WR-CALDESC:Events for Great Lakes Christian College
REFRESH-INTERVAL;VALUE=DURATION:PT1H
X-Robots-Tag:noindex
X-PUBLISHED-TTL:PT1H
BEGIN:VTIMEZONE
TZID:America/Detroit
BEGIN:DAYLIGHT
TZOFFSETFROM:-0500
TZOFFSETTO:-0400
TZNAME:EDT
DTSTART:20240310T070000
END:DAYLIGHT
BEGIN:STANDARD
TZOFFSETFROM:-0400
TZOFFSETTO:-0500
TZNAME:EST
DTSTART:20241103T060000
END:STANDARD
BEGIN:DAYLIGHT
TZOFFSETFROM:-0500
TZOFFSETTO:-0400
TZNAME:EDT
DTSTART:20250309T070000
END:DAYLIGHT
BEGIN:STANDARD
TZOFFSETFROM:-0400
TZOFFSETTO:-0500
TZNAME:EST
DTSTART:20251102T060000
END:STANDARD
BEGIN:DAYLIGHT
TZOFFSETFROM:-0500
TZOFFSETTO:-0400
TZNAME:EDT
DTSTART:20260308T070000
END:DAYLIGHT
BEGIN:STANDARD
TZOFFSETFROM:-0400
TZOFFSETTO:-0500
TZNAME:EST
DTSTART:20261101T060000
END:STANDARD
BEGIN:DAYLIGHT
TZOFFSETFROM:-0500
TZOFFSETTO:-0400
TZNAME:EDT
DTSTART:20270314T070000
END:DAYLIGHT
BEGIN:STANDARD
TZOFFSETFROM:-0400
TZOFFSETTO:-0500
TZNAME:EST
DTSTART:20271107T060000
END:STANDARD
END:VTIMEZONE
BEGIN:VEVENT
DTSTART;TZID=America/Detroit:20260329T180000
DTEND;TZID=America/Detroit:20260329T193000
DTSTAMP:20260423T155537
CREATED:20260216T165205Z
LAST-MODIFIED:20260216T165431Z
UID:40459-1774807200-1774812600@glcc.edu
SUMMARY:Living Trust Seminar - Coe
DESCRIPTION:No matter your income or situation\, everyone needs a plan! \nLearn how to create a legacy for your family\, church\, and organizations that are meaningful to you. Get practical guidance for stewardship and avoid costly probate. Plan ahead and gain peace of mind. \nSunday\, March 29 – Coe Church of Christ – St Louis\, MI – 6:00-7:30 pm \nRegister today for this no cost seminar on March 29\n\nGreat Lakes Christian College will be sponsoring an upcoming Living Trust Seminar at Coe Church of Christ.  This seminar will inform participants of the advantages of a Living Trust over a Will.  For those interested\, they will be guided through the process of having a Living Trust and supporting legal documents created for their family. \nFinancial Planning Ministry and Great Lakes Christian College partner to make this service possible. FPM is staffed by stewardship specialists with backgrounds in business\, finance\, law education and planned giving.  FPM assists individuals through the entire estate planning process from “start to signatures.”  They do not sell insurance or investments. \nIndividuals are not charged a fee for FPM services but services are underwritten by GLCC.  Each estate plan will be done at no out of pocket cost to the individuals. In return for this service\, valued in excess of $4\,000\, FPM encourages individuals to leave a legacy gift (after death) to one of the FPM sponsoring ministries (of which GLCC is one). In essence these are legacy gifts directed toward ministry that would have been lost to probate. \nIf you have any questions\, please contact Jamie Wetzel\, jwetzel@glcc.edu or 517-321-0242.
URL:https://glcc.edu/event/living-trust-seminar-coe/
LOCATION:MI
END:VEVENT
BEGIN:VEVENT
DTSTART;TZID=America/Detroit:20260328T090000
DTEND;TZID=America/Detroit:20260328T210000
DTSTAMP:20260423T155537
CREATED:20260219T161202Z
LAST-MODIFIED:20260219T161202Z
UID:40473-1774688400-1774731600@glcc.edu
SUMMARY:Pickleball Fundraiser
DESCRIPTION:Serving Beyond the Court is a pickleball fundraiser tournament hosted at Great Lakes Christian College\, bringing together competition\, community\, and service. Proceeds from this event directly support GLCC students participating in a mission trip to the Dominican Republic\, May 19–26\, in partnership with GO Ministries\, where they will serve local communities and live out their faith beyond the court. Players of all skill levels are invited to compete\, connect\, and support a meaningful cause. \nFORMAT\n• Divisions require a minimum of 5 teams and will be capped at a maximum of 12 teams\n• Round-robin play with a minimum of four guaranteed matches\n• Single-elimination bracket play will occur when a division has 6 or more teams\n• Top teams advance to bracket play to determine champions\n• Matches played to 15 points\, win by 2\n• If divisions expand\, matches may be 11 points\, win by 2\n• If divisions do not fill\, teams will be moved to the closest competitive division \n*Different divisions will have different start times. More details to come! \nCOST & PLAYER PERKS\n• $50 per team\n• Player Pack included \nREGISTRATION DETAILS\n• Registration is now open!\n• Registration closes: March 26 \n IMPORTANT NOTES\n• DUPR ratings will not be reported \nEQUIPMENT & FACILITY\n• Official tournament ball: LT Pro 48 Pickleball – Neon Yellow\n• Hosted in a spacious 3-court facility with bleacher seating and a lounge area with concessions \nRegister Today!\nWould you like to donate to our trip? Donate online by going here: Dominican Republic Mission Trip \nThanks for your support!
URL:https://glcc.edu/event/pickleball-fundraiser/
LOCATION:The Doty Center\, 6211 W. Willow Hwy\, Lansing\, MI\, 48917\, United States
END:VEVENT
BEGIN:VEVENT
DTSTART;TZID=America/Detroit:20260327T183000
DTEND;TZID=America/Detroit:20260327T203000
DTSTAMP:20260423T155537
CREATED:20260209T211217Z
LAST-MODIFIED:20260209T211545Z
UID:40427-1774636200-1774643400@glcc.edu
SUMMARY:Legacy Banquet - A Fundraiser for the Legacy Scholarship
DESCRIPTION:The Legacy Banquet is a fundraiser for GLCC’s Legacy Scholarship\, awarded to the children of parents serving in full-time ministry or missions. The scholarship provides free tuition for the first 12 credits each semester\, ensuring that these young men and women can pursue their education with less financial stress. \nThe Legacy Scholarship is more than just financial aid; it is a tribute to the sacrifices made by those who have dedicated their lives to serving churches and people like you. It is also an investment in the next generation of servant leaders. By supporting this scholarship\, you are helping to equip and empower future leaders who will leave our campus as Kingdom workers\, no matter their vocation. \nJoin us for dinner and an inspirational evening hearing from some of the recipients of the Legacy Scholarship and how it has impacted them. Dress is business casual. There is no registration fee for the evening\, but we appreciate your consideration of how you can help support our fundraising efforts. \nIf you are unable to attend the banquet\, you can still make a donation to the Legacy Scholarship by using the RSVP button below. \nRSVP or Donate Here
URL:https://glcc.edu/event/legacy-banquet-a-fundraiser-for-the-legacy-scholarship/
LOCATION:The Doty Center\, 6211 W. Willow Hwy\, Lansing\, MI\, 48917\, United States
END:VEVENT
BEGIN:VEVENT
DTSTART;TZID=America/Detroit:20260326T183000
DTEND;TZID=America/Detroit:20260326T200000
DTSTAMP:20260423T155537
CREATED:20260120T155629Z
LAST-MODIFIED:20260120T155629Z
UID:40298-1774549800-1774555200@glcc.edu
SUMMARY:Living Trust Seminar - Michiana
DESCRIPTION:No matter your income or situation\, everyone needs a plan! \nLearn how to create a legacy for your family\, church\, and organizations that are meaningful to you. Get practical guidance for stewardship and avoid costly probate. Plan ahead and gain peace of mind. \nThursday\, March 26 – Michiana Christian Camp – Niles – 6:30-8pm \nRegister today for this no cost seminar on March 26\n\nGreat Lakes Christian College will be sponsoring two upcoming Living Trust Seminars.  This seminar will inform participants of the advantages of a Living Trust over a Will.  For those interested\, they will be guide through the process of having a Living Trust and supporting legal documents created for their family. \nFinancial Planning Ministry and Great Lakes Christian College partner to make this service possible. FPM is staffed by stewardship specialists with backgrounds in business\, finance\, law education and planned giving.  FPM assists individuals through the entire estate planning process from “start to signatures.”  They do not sell insurance or investments. \nIndividuals are not charged a fee for FPM services but services are underwritten by GLCC.  Each estate plan will be done at no out of pocket cost to the individuals. In return for this service\, valued in excess of $4\,000\, FPM encourages individuals to leave a legacy gift (after death) to one of the FPM sponsoring ministries (of which GLCC is one). In essence these are legacy gifts directed toward ministry that would have been lost to probate. \nIf you have any questions\, please contact Jamie Wetzel\, jwetzel@glcc.edu or 517-321-0242.
URL:https://glcc.edu/event/living-trust-seminar-michiana/
LOCATION:Michiana Christian Camp\, 7383 Steinbauer Rd\, Niles\, MI\, 49120\, United States
END:VEVENT
BEGIN:VEVENT
DTSTART;TZID=America/Detroit:20260130T190000
DTEND;TZID=America/Detroit:20260130T201500
DTSTAMP:20260423T155537
CREATED:20251216T204327Z
LAST-MODIFIED:20260107T131722Z
UID:40016-1769799600-1769804100@glcc.edu
SUMMARY:Regional Gathering - N Ohio
DESCRIPTION:Alumni\, churches\, ministers\, mission teams\, and friends are invited to our upcoming Regional Gathering at Round Lake Christian Camp on Friday\, January 30. If you’re in the N Ohio area\, come at 7:00pm for dessert and to hear updates about what God is doing at GLCC and for an opportunity to ask questions of President Weller and the Board of Trustees.Please take a moment and RSVP using this form.
URL:https://glcc.edu/event/regional-gathering-n-ohio/
LOCATION:Round Lake Christian Camp\, 114 State Route 3\, Lakeville\, OH\, 44638\, United States
CATEGORIES:On Campus Event
END:VEVENT
BEGIN:VEVENT
DTSTART;TZID=America/Detroit:20260126T190000
DTEND;TZID=America/Detroit:20260126T203000
DTSTAMP:20260423T155537
CREATED:20251222T183756Z
LAST-MODIFIED:20260115T162310Z
UID:40123-1769454000-1769459400@glcc.edu
SUMMARY:The Forge of Friendship Documentary - FREE Sneak Peek
DESCRIPTION:The non-profit production organization\, Eastgate Creative\, is taking its debut documentary series\, The Forge of Friendship\, on a sneak preview\, post-production college tour. \nOur culture seems to be losing the ability to build and maintain true\, long-lasting friendships with those we don’t fully agree with on key issues of life. This documentary explores the history and impact of such a relationship\, the friendship between two of the world’s most significant authors\, C.S. Lewis and J.R.R. Tolkien. Through almost ten years of production\, built on interviews with over forty of the top Lewis and Tolkien experts\, with beautifully shot reenactment scenes in the historic locations of Oxford and Europe\, The Forge of Friendship promises to capture the world’s attention. \nGreat Lakes Christian College’s own Professor of English and Humanities\, Dr. Charlie Starr\, was interviewed as a part of this series due to his internationally-recognized expertise on C.S. Lewis. \nThe FREE evening will feature a Q&A discussion with the documentary’s Cinematographer\, Director\, and Producer and will include a curated preview of the post-production version of the series. \nFor more information about the series: www.eastgatecreative.org \nMonday\, January 26 – 7:00pm – Doors Open at 6:30pm\nGreat Lakes Christian College – Lansing\nAdministration Building – Room 101 \nRSVP Here\n  \nIf you have any questions\, please contact Jamie Wetzel\, jwetzel@glcc.edu or 517-321-0242.
URL:https://glcc.edu/event/the-forge-of-friendship-documentary-free-sneak-peek/
LOCATION:Administration Building\, 6211 W Willow Hwy\, Lansing\, MI\, 48917-1231\, United States
END:VEVENT
BEGIN:VEVENT
DTSTART;TZID=America/Detroit:20251212T190000
DTEND;TZID=America/Detroit:20251212T203000
DTSTAMP:20260423T155537
CREATED:20251122T002058Z
LAST-MODIFIED:20251216T204615Z
UID:38856-1765566000-1765571400@glcc.edu
SUMMARY:Christmas on Campus
DESCRIPTION:CHRISTMAS ON CAMPUS\nDecember 12\, 2025\n7:00 pm\nThe Doty Center\nWe invite you to usher in the Christmas season with an inspiring evening of music at GLCC’s “Christmas on Campus.”  Included in the evening’s events are choral\, jazz\, and handbell ensembles. For an additional unique treat\, local/area choir alumni have been rehearsing with students to create a combined choir of alumni and students. \nWe will be hosting this Christmas event on the campus of Great Lakes Christian College in the Doty Center. The college is located on the west side of Lansing in Delta Township\, at 6211 W. Willow Hwy.\, Lansing\, MI. This year’s event will take place on Friday\, December 12\, at 7:00 pm\, (with seating at 6:30). \nBegin the Christmas season with us this year on the campus of Great Lakes Christian College!
URL:https://glcc.edu/event/christmas-on-campus-2/
LOCATION:The Doty Center\, 6211 W. Willow Hwy\, Lansing\, MI\, 48917\, United States
CATEGORIES:On Campus Event
END:VEVENT
BEGIN:VEVENT
DTSTART;VALUE=DATE:20251028
DTEND;VALUE=DATE:20251101
DTSTAMP:20260423T155537
CREATED:20180825T184240Z
LAST-MODIFIED:20251120T061334Z
UID:38700-1761609600-1761955199@glcc.edu
SUMMARY:Restoration Appreciation Week
DESCRIPTION:October 28 & 31\, 2025\nGreat Lakes Christian College holds an annual lectureship called Restoration Appreciation Week at which two speakers deliver informative and appreciative messages about the Restoration heritage from which the College comes.\nCurrent students\, alumni\, and the public are all welcome to listen to the presentations.\n\n\nTuesday\, October 28 (11:00am) – Doty Center\n“Humility\, Unity\, and Restoration”\nDr. Frank Weller – President\, Great Lakes Christian College \nDr. Weller served as an Independent Christian Church pastor for over thirty years before becoming the tenth President of Great Lakes Christian College. He and his wife Tracy grew up in Restoration Movement churches. \n\nFriday\, October 31 (11:00am) – Doty Center\n“A Collision of Temples — God’s Restoration Work Continues”\nFrank Viola – Author\, Speaker\, Blogger\, Podcaster \nViola is a bestselling author\, speaker\, blogger\, and podcaster. Viola helps serious followers of Jesus know their Lord more deeply so they can experience real transformation and make a lasting impact. His blog – frankviola.org – is regularly ranked in the top 5 of all Christian blogs on the Web\, and it contains his books\, articles\, and podcasts. \n\nFriday\, October 31 (12:00pm) – Woodard Hall Room 101\nLunch and Q&A Time with Both Speakers \nRSVP to Lunch and Q&A \n  \n\n\nRESOURCES\nRestoration Appreciation 2022 Pamphlet\n(Includes Esther Hetrick and Dr. Mark Hicks) \nRestoration Appreciation Week Pamphlet #6 2021\n(Includes Dr. Dan Cameron and Dr. Jim Estep) \n2020 Restoration Appreciation ePamphlet\n(Includes Kate Blakely and President Larry Carter \n2019 Restoration Appreciation Week ePamphlet\n(Includes Dr. Ron Peters and Dr. Keith Keeran) \n2018 Restoration Appreciation Week ePamphlet\n(Includes Jim Amstutz and Jerry Harris) \n2017 Restoration Appreciation ePamphlet\n(Includes Jordan Kellicut and articles by Barton W. Stone) \n2016 Restoration Appreciation ePamphlet\n(Includes Dr. Lloyd Knowles and Dr. John Nugent) \nAlexander Campbell and the place of writing the Declaration and Address \nDeclaration and Address (Propositions)
URL:https://glcc.edu/event/restoration-appreciation-week-2/
LOCATION:MI
ATTACH;FMTTYPE=image/jpeg:https://glcc.edu/wp-content/uploads/2025/11/Alexander-Campbell-2.jpg
END:VEVENT
END:VCALENDAR